BEGIN:VCALENDAR
VERSION:2.0
PRODID:-//eventon.com NONSGML v1.0//EN
CALSCALE:GREGORIAN
METHOD:PUBLISH
BEGIN:VEVENT
UID:69ea37a7e3a46
DTSTAMP:20260423T151551Z
DTSTART:20260109T190000Z
DTEND:20260109T220000Z
LOCATION:Talking Stick Resort 9800 E Talking Stick Way Scottsdale\,  AZ 85256
SUMMARY:The My Generation Tour
DESCRIPTION:Get ready to relive the soundtrack of the 60â€™s and 70â€™s wit
 h The My Generation Tour! Featuring The Lovinâ€™ Spoonful\,  The Hollies Gr
 eatest Hits starring Terry Sylvester\,  and Gary Lewis &amp; The Playboysâ€
 ”LIVE at Talking Stick Resort\,  Friday\,  January 9th! Donâ€™t miss this n
 ight of classic rock and timeless memories.[..]\nhttps://951thewowfactor.co
 m/events/the-my-generation-tour/
URL:https://951thewowfactor.com/events/the-my-generation-tour/
END:VEVENT
END:VCALENDAR