BEGIN:VCALENDAR
VERSION:2.0
PRODID:-//eventon.com NONSGML v1.0//EN
CALSCALE:GREGORIAN
METHOD:PUBLISH
BEGIN:VEVENT
UID:69e7a27b2bfd5
DTSTAMP:20260421T161451Z
DTSTART:20250201T163000Z
DTEND:20250201T230000Z
LOCATION:Old Town Scottsdale
SUMMARY:71st Annual Parada Del Sol Parade
DESCRIPTION:This community event\,  which takes place throughout Old Town S
 cottsdale\,  will kick off with the parade at 10 a.m. on Saturday\,  Feb. 1
 \,  2025. The popular Trail’s End Festival\,  an extravaganza of Western-
 themed fun for the whole family\,  runs from noon to 4 p.m. The theme of th
 e 71st Annual[..]\nhttps://951thewowfactor.com/events/71st-annual-parada-de
 l-sol-parade/
URL:https://951thewowfactor.com/events/71st-annual-parada-del-sol-parade/
END:VEVENT
END:VCALENDAR