BEGIN:VCALENDAR
VERSION:2.0
PRODID:-//eventon.com NONSGML v1.0//EN
CALSCALE:GREGORIAN
METHOD:PUBLISH
BEGIN:VEVENT
UID:69e59ca9ec90e
DTSTAMP:20260420T032529Z
DTSTART:20230328T150000Z
DTEND:20230402T050000Z
LOCATION:State Farm Stadium 1 Cardinals Dr
SUMMARY:Mecum Auto Auction
DESCRIPTION:Mecum Auctions\,  the world’s largest collector car auction c
 ompany\,  will return to State Farm Stadium this March 28-April 1 for its f
 ifth annual auction in Glendale\,  Arizona\,  with an estimated 2\, 000 veh
 icles and approximately 150 pieces of Road Art and memorabilia items to be 
 offered. Click here to enter for[..]\nhttps://951thewowfactor.com/events/me
 cum-auto-auction/
URL:https://951thewowfactor.com/events/mecum-auto-auction/
END:VEVENT
END:VCALENDAR